BEGIN:VCALENDAR
VERSION:2.0
PRODID:-//ChamberMaster//Event Calendar 2.0//EN
METHOD:PUBLISH
X-PUBLISHED-TTL:P1H
REFRESH-INTERVAL:P1H
CALSCALE:GREGORIAN
BEGIN:VTIMEZONE
TZID:America/New_York
BEGIN:DAYLIGHT
RRULE:FREQ=YEARLY;BYMONTH=3;BYDAY=2SU
DTSTART:20070101T000000
TZOFFSETFROM:-0500
TZOFFSETTO:-0400
TZNAME:Eastern Daylight Time
END:DAYLIGHT
BEGIN:STANDARD
RRULE:FREQ=YEARLY;BYMONTH=11;BYDAY=1SU
DTSTART:20070101T000000
TZOFFSETFROM:-0400
TZOFFSETTO:-0500
TZNAME:Eastern Standard Time
END:STANDARD
END:VTIMEZONE
BEGIN:VEVENT
DTSTART;TZID=America/New_York:20230829T160000
DTEND;TZID=America/New_York:20230829T190000
X-MICROSOFT-CDO-ALLDAYEVENT:FALSE
SUMMARY:Lenoir City Farmers Market
DESCRIPTION:Announcing the Lenoir City Farmers' Market for the 2023 season! Join us every Tuesday on Depot Street\, 4 - 7 pm.  Contact Karisa Bitner at The Tennessee Homestead Exchange (865) 317-4331 for vendor information and application. You will be sent a market rules and guidelines page\, and the application. Please be sure to read both thoroughly before applying. Let's enjoy the season\, Lenoir City! Can't wait to see you all there!
X-ALT-DESC;FMTTYPE=text/html:Announcing the Lenoir City Farmers' Market for the 2023 season! Join us every Tuesday on Depot Street\, 4 - 7 pm.  Contact Karisa Bitner at The Tennessee Homestead Exchange (865) 317-4331 for vendor information and application. You will be sent a market rules and guidelines page\, and the application. Please be sure to read both thoroughly before applying. Let's enjoy the season\, Lenoir City! Can't wait to see you all there!
LOCATION:Depot Street Lenoir City TN 37771
UID:e.1919.839530
SEQUENCE:3
DTSTAMP:20260423T154105Z
URL:https://loudoncountychamberofcommerce.growthzoneapp.com/chamber-calendar/Details/lenoir-city-farmers-market-932725?sourceTypeId=Hub
END:VEVENT
END:VCALENDAR
